BEGIN:VCALENDAR
VERSION:2.0
PRODID:-//OmniMagnetCalendar//EN
BEGIN:VEVENT
DTSTAMP:20190625T195740Z
STATUS:CONFIRMED
UID:hcitaly.clubs.harvard.edu207
DTSTART:20181212T173000Z
DTEND:20181212T203000Z
LOCATION:MUSIA living (&) arts event space, Via dei Chiavari no. 7/9, Rome, Italy,
SUMMARY:Hackers, Heists and Whodunits
DESCRIPTION:
BEGIN:VALARM
TRIGGER:-PT15M
ACTION:DISPLAY
END:VALARM
TRANSP:OPAQUE
END:VEVENT
END:VCALENDAR
