BEGIN:VCALENDAR
VERSION:2.0
PRODID:-//OmniMagnetCalendar//EN
BEGIN:VEVENT
DTSTAMP:20190625T195740Z
STATUS:CONFIRMED
UID:hcitaly.clubs.harvard.edu203
DTSTART:20190221T173000Z
DTEND:
LOCATION:Circolo Canottieri Aniene, Lungotevere Acqua Acetosa 119, Rome, Italy,
SUMMARY:Smart Cities: Today and Tomorrow
DESCRIPTION:
BEGIN:VALARM
TRIGGER:-PT15M
ACTION:DISPLAY
END:VALARM
TRANSP:OPAQUE
END:VEVENT
END:VCALENDAR
