BEGIN:VCALENDAR
VERSION:2.0
PRODID:-//OmniMagnetCalendar//EN
BEGIN:VEVENT
DTSTAMP:20190625T195740Z
STATUS:CONFIRMED
UID:hcitaly.clubs.harvard.edu202
DTSTART:20190324T173000Z
DTEND:
LOCATION:Palazzo Antici Mattei di Giove, Via M. Caetani no. 32, Rome, Italy,
SUMMARY:Lessons from Ancient Rome for a Next Generation of Leaders
DESCRIPTION:
BEGIN:VALARM
TRIGGER:-PT15M
ACTION:DISPLAY
END:VALARM
TRANSP:OPAQUE
END:VEVENT
END:VCALENDAR
